BEGIN:VCALENDAR
VERSION:2.0
PRODID:-//SMA Kolese Gonzaga - ECPv6.7.1//NONSGML v1.0//EN
CALSCALE:GREGORIAN
METHOD:PUBLISH
X-ORIGINAL-URL:https://www.gonzaga.sch.id
X-WR-CALDESC:Events for SMA Kolese Gonzaga
REFRESH-INTERVAL;VALUE=DURATION:PT1H
X-Robots-Tag:noindex
X-PUBLISHED-TTL:PT1H
BEGIN:VTIMEZONE
TZID:Asia/Krasnoyarsk
BEGIN:STANDARD
TZOFFSETFROM:+0700
TZOFFSETTO:+0700
TZNAME:+07
DTSTART:20230101T000000
END:STANDARD
END:VTIMEZONE
BEGIN:VEVENT
DTSTART;VALUE=DATE:20230814
DTEND;VALUE=DATE:20230817
DTSTAMP:20260421T223945
CREATED:20230809T024917Z
LAST-MODIFIED:20230809T024917Z
UID:4130-1691971200-1692230399@www.gonzaga.sch.id
SUMMARY:Invitasi Basket
DESCRIPTION:Sorry\, this entry is only available in English.
URL:https://www.gonzaga.sch.id/calendar/invitasi-basket/
END:VEVENT
BEGIN:VEVENT
DTSTART;VALUE=DATE:20230817
DTEND;VALUE=DATE:20230818
DTSTAMP:20260421T223945
CREATED:20230809T024956Z
LAST-MODIFIED:20230809T024956Z
UID:4132-1692230400-1692316799@www.gonzaga.sch.id
SUMMARY:Hari Kemerdekaan RI-Pesta Rakyat
DESCRIPTION:Hari Kemerdekaan RI-Pesta Rakyat
URL:https://www.gonzaga.sch.id/calendar/hari-kemerdekaan-ri-pesta-rakyat/
END:VEVENT
END:VCALENDAR