BEGIN:VCALENDAR
VERSION:2.0
PRODID:-//Gonzaga College - ECPv6.7.1//NONSGML v1.0//EN
CALSCALE:GREGORIAN
METHOD:PUBLISH
X-WR-CALNAME:Gonzaga College
X-ORIGINAL-URL:https://www.gonzaga.sch.id/en
X-WR-CALDESC:Events for Gonzaga College
REFRESH-INTERVAL;VALUE=DURATION:PT1H
X-Robots-Tag:noindex
X-PUBLISHED-TTL:PT1H
BEGIN:VTIMEZONE
TZID:Asia/Krasnoyarsk
BEGIN:STANDARD
TZOFFSETFROM:+0700
TZOFFSETTO:+0700
TZNAME:+07
DTSTART:20240101T000000
END:STANDARD
END:VTIMEZONE
BEGIN:VEVENT
DTSTART;VALUE=DATE:20240501
DTEND;VALUE=DATE:20240502
DTSTAMP:20260422T024124
CREATED:20240110T055721Z
LAST-MODIFIED:20240110T055721Z
UID:4512-1714521600-1714607999@www.gonzaga.sch.id
SUMMARY:Hari Buruh
DESCRIPTION:
URL:https://www.gonzaga.sch.id/en/calendar/hari-buruh-2/
END:VEVENT
BEGIN:VEVENT
DTSTART;VALUE=DATE:20240502
DTEND;VALUE=DATE:20240503
DTSTAMP:20260422T024124
CREATED:20240110T035637Z
LAST-MODIFIED:20240110T035637Z
UID:4510-1714608000-1714694399@www.gonzaga.sch.id
SUMMARY:Hari Pendidikan Nasional
DESCRIPTION:
URL:https://www.gonzaga.sch.id/en/calendar/hari-pendidikan-nasional/
END:VEVENT
END:VCALENDAR