BEGIN:VCALENDAR
VERSION:2.0
PRODID:-//SMA Kolese Gonzaga - ECPv6.7.1//NONSGML v1.0//EN
CALSCALE:GREGORIAN
METHOD:PUBLISH
X-ORIGINAL-URL:https://www.gonzaga.sch.id
X-WR-CALDESC:Events for SMA Kolese Gonzaga
REFRESH-INTERVAL;VALUE=DURATION:PT1H
X-Robots-Tag:noindex
X-PUBLISHED-TTL:PT1H
BEGIN:VTIMEZONE
TZID:Asia/Krasnoyarsk
BEGIN:STANDARD
TZOFFSETFROM:+0700
TZOFFSETTO:+0700
TZNAME:+07
DTSTART:20240101T000000
END:STANDARD
END:VTIMEZONE
BEGIN:VEVENT
DTSTART;VALUE=DATE:20240610
DTEND;VALUE=DATE:20240612
DTSTAMP:20260425T035659
CREATED:20240110T060154Z
LAST-MODIFIED:20240110T060154Z
UID:4532-1717977600-1718150399@www.gonzaga.sch.id
SUMMARY:Susulan PAT / Class Meeting
DESCRIPTION:
URL:https://www.gonzaga.sch.id/calendar/susulan-pat-class-meeting/
END:VEVENT
BEGIN:VEVENT
DTSTART;VALUE=DATE:20240612
DTEND;VALUE=DATE:20240613
DTSTAMP:20260425T035659
CREATED:20240110T060218Z
LAST-MODIFIED:20240110T060218Z
UID:4534-1718150400-1718236799@www.gonzaga.sch.id
SUMMARY:Class Meeting
DESCRIPTION:
URL:https://www.gonzaga.sch.id/calendar/class-meeting/
END:VEVENT
BEGIN:VEVENT
DTSTART;VALUE=DATE:20240614
DTEND;VALUE=DATE:20240615
DTSTAMP:20260425T035659
CREATED:20240110T060309Z
LAST-MODIFIED:20240110T060309Z
UID:4536-1718323200-1718409599@www.gonzaga.sch.id
SUMMARY:Pembagian Rapor Akhir Tahun
DESCRIPTION:
URL:https://www.gonzaga.sch.id/calendar/pembagian-rapor-akhir-tahun/
END:VEVENT
END:VCALENDAR