BEGIN:VCALENDAR
VERSION:2.0
PRODID:-//Gonzaga College - ECPv6.7.1//NONSGML v1.0//EN
CALSCALE:GREGORIAN
METHOD:PUBLISH
X-ORIGINAL-URL:https://www.gonzaga.sch.id/en
X-WR-CALDESC:Events for Gonzaga College
REFRESH-INTERVAL;VALUE=DURATION:PT1H
X-Robots-Tag:noindex
X-PUBLISHED-TTL:PT1H
BEGIN:VTIMEZONE
TZID:Asia/Krasnoyarsk
BEGIN:STANDARD
TZOFFSETFROM:+0700
TZOFFSETTO:+0700
TZNAME:+07
DTSTART:20240101T000000
END:STANDARD
END:VTIMEZONE
BEGIN:VEVENT
DTSTART;VALUE=DATE:20240909
DTEND;VALUE=DATE:20240914
DTSTAMP:20260425T031436
CREATED:20240708T075821Z
LAST-MODIFIED:20240708T075821Z
UID:4696-1725840000-1726271999@www.gonzaga.sch.id
SUMMARY:Kelas XI: Live In\, Kelas XII: Ekskursi Budaya
DESCRIPTION:
URL:https://www.gonzaga.sch.id/en/calendar/kelas-xi-live-in-kelas-xii-ekskursi-budaya-2/
END:VEVENT
BEGIN:VEVENT
DTSTART;VALUE=DATE:20240916
DTEND;VALUE=DATE:20240917
DTSTAMP:20260425T031436
CREATED:20240708T080109Z
LAST-MODIFIED:20240708T080109Z
UID:4699-1726444800-1726531199@www.gonzaga.sch.id
SUMMARY:Maulid Nabi Muhammad
DESCRIPTION:
URL:https://www.gonzaga.sch.id/en/calendar/maulid-nabi-muhammad/
END:VEVENT
BEGIN:VEVENT
DTSTART;VALUE=DATE:20240926
DTEND;VALUE=DATE:20240927
DTSTAMP:20260425T031436
CREATED:20240708T080305Z
LAST-MODIFIED:20240708T080305Z
UID:4702-1727308800-1727395199@www.gonzaga.sch.id
SUMMARY:Education Fair + Carrier Day + Psikotes
DESCRIPTION:
URL:https://www.gonzaga.sch.id/en/calendar/education-fair-carrier-day-psikotes/
END:VEVENT
BEGIN:VEVENT
DTSTART;VALUE=DATE:20240927
DTEND;VALUE=DATE:20240928
DTSTAMP:20260425T031436
CREATED:20240708T080622Z
LAST-MODIFIED:20240708T080622Z
UID:4705-1727395200-1727481599@www.gonzaga.sch.id
SUMMARY:Education Fair + Carrier Day
DESCRIPTION:
URL:https://www.gonzaga.sch.id/en/calendar/education-fair-carrier-day/
END:VEVENT
BEGIN:VEVENT
DTSTART;VALUE=DATE:20240930
DTEND;VALUE=DATE:20241001
DTSTAMP:20260425T031436
CREATED:20240708T081114Z
LAST-MODIFIED:20240708T081137Z
UID:4712-1727654400-1727740799@www.gonzaga.sch.id
SUMMARY:Penerimaan Rapor Mid Semester
DESCRIPTION:
URL:https://www.gonzaga.sch.id/en/calendar/penerimaan-rapor-mid-semester/
END:VEVENT
END:VCALENDAR