BEGIN:VCALENDAR
VERSION:2.0
PRODID:-//Gonzaga College - ECPv6.7.1//NONSGML v1.0//EN
CALSCALE:GREGORIAN
METHOD:PUBLISH
X-ORIGINAL-URL:https://www.gonzaga.sch.id/en
X-WR-CALDESC:Events for Gonzaga College
REFRESH-INTERVAL;VALUE=DURATION:PT1H
X-Robots-Tag:noindex
X-PUBLISHED-TTL:PT1H
BEGIN:VTIMEZONE
TZID:Asia/Krasnoyarsk
BEGIN:STANDARD
TZOFFSETFROM:+0700
TZOFFSETTO:+0700
TZNAME:+07
DTSTART:20230101T000000
END:STANDARD
END:VTIMEZONE
BEGIN:VEVENT
DTSTART;VALUE=DATE:20230828
DTEND;VALUE=DATE:20230829
DTSTAMP:20260424T082837
CREATED:20230809T025342Z
LAST-MODIFIED:20230809T025342Z
UID:4139-1693180800-1693267199@www.gonzaga.sch.id
SUMMARY:Misa Perdana (Romo Linus\, Pr & Bernard\, Pr)
DESCRIPTION:Misa Perdana (Romo Linus\, Pr & Bernard\, Pr)
URL:https://www.gonzaga.sch.id/en/calendar/misa-perdana-romo-linus-pr-bernard-pr/
END:VEVENT
END:VCALENDAR