BEGIN:VCALENDAR
VERSION:2.0
PRODID:-//Gonzaga College - ECPv6.7.1//NONSGML v1.0//EN
CALSCALE:GREGORIAN
METHOD:PUBLISH
X-WR-CALNAME:Gonzaga College
X-ORIGINAL-URL:https://www.gonzaga.sch.id/en
X-WR-CALDESC:Events for Gonzaga College
REFRESH-INTERVAL;VALUE=DURATION:PT1H
X-Robots-Tag:noindex
X-PUBLISHED-TTL:PT1H
BEGIN:VTIMEZONE
TZID:Asia/Krasnoyarsk
BEGIN:STANDARD
TZOFFSETFROM:+0700
TZOFFSETTO:+0700
TZNAME:+07
DTSTART:20240101T000000
END:STANDARD
END:VTIMEZONE
BEGIN:VEVENT
DTSTART;VALUE=DATE:20240819
DTEND;VALUE=DATE:20240821
DTSTAMP:20260424T071646
CREATED:20240708T075343Z
LAST-MODIFIED:20240708T075343Z
UID:4690-1724025600-1724198399@www.gonzaga.sch.id
SUMMARY:ANBK Kelas XI
DESCRIPTION:
URL:https://www.gonzaga.sch.id/en/calendar/anbk-kelas-xi/
END:VEVENT
BEGIN:VEVENT
DTSTART;VALUE=DATE:20240824
DTEND;VALUE=DATE:20240825
DTSTAMP:20260424T071646
CREATED:20240708T075545Z
LAST-MODIFIED:20240708T075545Z
UID:4693-1724457600-1724543999@www.gonzaga.sch.id
SUMMARY:Ignatian Formation for Parents
DESCRIPTION:
URL:https://www.gonzaga.sch.id/en/calendar/ignatian-formation-for-parents/
END:VEVENT
END:VCALENDAR